Package: GeneSelectMMD Version: 2.54.0 Command: /home/biocbuild/bbs-3.22-bioc/R/bin/R CMD INSTALL GeneSelectMMD StartedAt: 2025-11-16 15:13:31 -0500 (Sun, 16 Nov 2025) EndedAt: 2025-11-16 15:13:39 -0500 (Sun, 16 Nov 2025) EllapsedTime: 7.9 seconds RetCode: 0 Status: OK