Package: GeneRegionScan Version: 1.66.0 Command: /home/biocbuild/bbs-3.22-bioc/R/bin/R CMD build --keep-empty-dirs --no-resave-data --md5 GeneRegionScan StartedAt: 2025-11-09 17:51:27 -0500 (Sun, 09 Nov 2025) EndedAt: 2025-11-09 17:52:03 -0500 (Sun, 09 Nov 2025) EllapsedTime: 35.1 seconds RetCode: 0 Status: OK PackageFile: GeneRegionScan_1.66.0.tar.gz PackageFileSize: 7.485 MiB