Package: GeneOverlap Version: 1.46.0 Command: /home/biocbuild/bbs-3.22-bioc/R/bin/R CMD INSTALL GeneOverlap StartedAt: 2025-11-25 15:30:27 -0500 (Tue, 25 Nov 2025) EndedAt: 2025-11-25 15:30:48 -0500 (Tue, 25 Nov 2025) EllapsedTime: 20.9 seconds RetCode: 0 Status: OK