Package: GeneOverlap Version: 1.46.0 Command: /home/biocbuild/bbs-3.22-bioc/R/bin/R CMD build --keep-empty-dirs --no-resave-data --md5 GeneOverlap StartedAt: 2025-11-25 18:13:41 -0500 (Tue, 25 Nov 2025) EndedAt: 2025-11-25 18:13:49 -0500 (Tue, 25 Nov 2025) EllapsedTime: 8.0 seconds RetCode: 0 Status: OK PackageFile: GeneOverlap_1.46.0.tar.gz PackageFileSize: 361.7 KiB