Package: GeneNetworkBuilder Version: 1.52.0 Command: /home/biocbuild/bbs-3.22-bioc/R/bin/R CMD INSTALL GeneNetworkBuilder StartedAt: 2025-11-17 17:16:10 -0500 (Mon, 17 Nov 2025) EndedAt: 2025-11-17 17:16:26 -0500 (Mon, 17 Nov 2025) EllapsedTime: 16.6 seconds RetCode: 0 Status: OK