Package: GeneNetworkBuilder Version: 1.52.0 Command: /home/biocbuild/bbs-3.22-bioc/R/bin/R CMD build --keep-empty-dirs --no-resave-data --md5 GeneNetworkBuilder StartedAt: 2025-11-17 21:07:40 -0500 (Mon, 17 Nov 2025) EndedAt: 2025-11-17 21:16:52 -0500 (Mon, 17 Nov 2025) EllapsedTime: 551.6 seconds RetCode: 0 Status: OK PackageFile: GeneNetworkBuilder_1.52.0.tar.gz PackageFileSize: 7.379 MiB