Package: GenProSeq Version: 1.13.0 Command: /home/biocbuild/bbs-3.22-bioc/R/bin/R CMD INSTALL GenProSeq StartedAt: 2025-10-27 15:14:05 -0400 (Mon, 27 Oct 2025) EndedAt: 2025-10-27 15:14:15 -0400 (Mon, 27 Oct 2025) EllapsedTime: 10.4 seconds RetCode: 0 Status: OK