Package: GenProSeq Version: 1.14.0 Command: /Library/Frameworks/R.framework/Resources/bin/R CMD INSTALL GenProSeq StartedAt: 2025-11-03 15:19:27 -0500 (Mon, 03 Nov 2025) EndedAt: 2025-11-03 15:19:53 -0500 (Mon, 03 Nov 2025) EllapsedTime: 25.5 seconds RetCode: 0 Status: OK