Package: GenProSeq Version: 1.14.0 Command: /Library/Frameworks/R.framework/Resources/bin/R CMD INSTALL GenProSeq StartedAt: 2025-11-03 15:06:33 -0500 (Mon, 03 Nov 2025) EndedAt: 2025-11-03 15:06:38 -0500 (Mon, 03 Nov 2025) EllapsedTime: 4.6 seconds RetCode: 0 Status: OK