Package: GenProSeq Version: 1.14.0 Command: rm -rf GenProSeq.buildbin-libdir && mkdir GenProSeq.buildbin-libdir && /Users/biocbuild/BBS/utils/build-universal.sh GenProSeq_1.14.0.tar.gz /Library/Frameworks/R.framework/Resources/bin/R GenProSeq.buildbin-libdir StartedAt: 2025-11-02 23:06:26 -0500 (Sun, 02 Nov 2025) EndedAt: 2025-11-02 23:06:31 -0500 (Sun, 02 Nov 2025) EllapsedTime: 5.1 seconds RetCode: 0 Status: OK PackageFile: GenProSeq_1.14.0.tgz PackageFileSize: 396.3 KiB