Package: GenProSeq Version: 1.14.0 Command: /Library/Frameworks/R.framework/Resources/bin/R CMD INSTALL GenProSeq StartedAt: 2025-11-17 17:10:26 -0500 (Mon, 17 Nov 2025) EndedAt: 2025-11-17 17:10:30 -0500 (Mon, 17 Nov 2025) EllapsedTime: 4.4 seconds RetCode: 0 Status: OK