Package: GenProSeq Version: 1.14.0 Command: /Library/Frameworks/R.framework/Resources/bin/R CMD build --keep-empty-dirs --no-resave-data GenProSeq StartedAt: 2025-11-17 21:29:08 -0500 (Mon, 17 Nov 2025) EndedAt: 2025-11-17 21:29:25 -0500 (Mon, 17 Nov 2025) EllapsedTime: 17.1 seconds RetCode: 0 Status: OK PackageFile: GenProSeq_1.14.0.tar.gz PackageFileSize: 1.115 MiB