Package: GeDi Version: 1.5.0 Command: /home/biocbuild/bbs-3.22-bioc/R/bin/R CMD INSTALL GeDi StartedAt: 2025-10-24 16:01:11 -0400 (Fri, 24 Oct 2025) EndedAt: 2025-10-24 16:02:04 -0400 (Fri, 24 Oct 2025) EllapsedTime: 52.8 seconds RetCode: 0 Status: OK