Package: GWASTools Version: 1.55.0 Command: /home/biocbuild/bbs-3.22-bioc/R/bin/R CMD INSTALL GWASTools StartedAt: 2025-10-24 15:22:43 -0400 (Fri, 24 Oct 2025) EndedAt: 2025-10-24 15:23:07 -0400 (Fri, 24 Oct 2025) EllapsedTime: 23.8 seconds RetCode: 0 Status: OK