Package: GUIDEseq Version: 1.39.0 Command: /home/biocbuild/bbs-3.22-bioc/R/bin/R CMD INSTALL GUIDEseq StartedAt: 2025-10-27 15:53:37 -0400 (Mon, 27 Oct 2025) EndedAt: 2025-10-27 15:54:29 -0400 (Mon, 27 Oct 2025) EllapsedTime: 51.2 seconds RetCode: 0 Status: OK