Package: GSgalgoR Version: 1.20.0 Command: /home/biocbuild/bbs-3.22-bioc/R/bin/R CMD INSTALL GSgalgoR StartedAt: 2025-11-16 15:06:59 -0500 (Sun, 16 Nov 2025) EndedAt: 2025-11-16 15:07:46 -0500 (Sun, 16 Nov 2025) EllapsedTime: 47.3 seconds RetCode: 0 Status: OK