Package: GSReg Version: 1.44.0 Command: /home/biocbuild/bbs-3.22-bioc/R/bin/R CMD build --keep-empty-dirs --no-resave-data --md5 GSReg StartedAt: 2025-11-02 18:16:06 -0500 (Sun, 02 Nov 2025) EndedAt: 2025-11-02 18:17:36 -0500 (Sun, 02 Nov 2025) EllapsedTime: 90.2 seconds RetCode: 0 Status: OK PackageFile: GSReg_1.44.0.tar.gz PackageFileSize: 470.5 KiB