Package: GSEAmining Version: 1.19.0 Command: /home/biocbuild/bbs-3.22-bioc/R/bin/R CMD INSTALL GSEAmining StartedAt: 2025-10-27 15:13:10 -0400 (Mon, 27 Oct 2025) EndedAt: 2025-10-27 15:13:20 -0400 (Mon, 27 Oct 2025) EllapsedTime: 10.0 seconds RetCode: 0 Status: OK