Package: GSEAlm Version: 1.70.0 Command: /home/biocbuild/bbs-3.22-bioc/R/bin/R CMD INSTALL GSEAlm StartedAt: 2025-11-13 15:13:56 -0500 (Thu, 13 Nov 2025) EndedAt: 2025-11-13 15:13:59 -0500 (Thu, 13 Nov 2025) EllapsedTime: 3.1 seconds RetCode: 0 Status: OK