Package: GSEAlm Version: 1.70.0 Command: /home/biocbuild/bbs-3.22-bioc/R/bin/R CMD build --keep-empty-dirs --no-resave-data --md5 GSEAlm StartedAt: 2025-11-13 18:04:16 -0500 (Thu, 13 Nov 2025) EndedAt: 2025-11-13 18:05:01 -0500 (Thu, 13 Nov 2025) EllapsedTime: 45.0 seconds RetCode: 0 Status: OK PackageFile: GSEAlm_1.70.0.tar.gz PackageFileSize: 1.249 MiB