Package: GSEABase Version: 1.72.0 Command: /home/biocbuild/bbs-3.22-bioc/R/bin/R CMD INSTALL GSEABase StartedAt: 2025-11-17 17:19:55 -0500 (Mon, 17 Nov 2025) EndedAt: 2025-11-17 17:20:13 -0500 (Mon, 17 Nov 2025) EllapsedTime: 18.2 seconds RetCode: 0 Status: OK