Package: GSAR Version: 1.44.0 Command: /home/biocbuild/bbs-3.22-bioc/R/bin/R CMD INSTALL GSAR StartedAt: 2025-11-14 15:06:45 -0500 (Fri, 14 Nov 2025) EndedAt: 2025-11-14 15:06:51 -0500 (Fri, 14 Nov 2025) EllapsedTime: 6.1 seconds RetCode: 0 Status: OK