Package: GRmetrics Version: 1.36.0 Command: /home/biocbuild/bbs-3.22-bioc/R/bin/R CMD build --keep-empty-dirs --no-resave-data --md5 GRmetrics StartedAt: 2025-11-20 18:50:29 -0500 (Thu, 20 Nov 2025) EndedAt: 2025-11-20 18:51:16 -0500 (Thu, 20 Nov 2025) EllapsedTime: 47.1 seconds RetCode: 0 Status: OK PackageFile: GRmetrics_1.36.0.tar.gz PackageFileSize: 1.923 MiB