Package: GOfuncR Version: 1.30.0 Command: /home/biocbuild/bbs-3.22-bioc/R/bin/R CMD INSTALL GOfuncR StartedAt: 2025-11-02 15:49:15 -0500 (Sun, 02 Nov 2025) EndedAt: 2025-11-02 15:50:58 -0500 (Sun, 02 Nov 2025) EllapsedTime: 103.0 seconds RetCode: 0 Status: OK