Package: GOfuncR Version: 1.30.0 Command: /home/biocbuild/bbs-3.22-bioc/R/bin/R CMD build --keep-empty-dirs --no-resave-data --md5 GOfuncR StartedAt: 2025-11-02 18:11:18 -0500 (Sun, 02 Nov 2025) EndedAt: 2025-11-02 18:15:18 -0500 (Sun, 02 Nov 2025) EllapsedTime: 240.2 seconds RetCode: 0 Status: OK PackageFile: GOfuncR_1.30.0.tar.gz PackageFileSize: 5.195 MiB