Package: GOTHiC Version: 1.46.0 Command: /home/biocbuild/bbs-3.22-bioc/R/bin/R CMD INSTALL GOTHiC StartedAt: 2025-11-20 16:45:03 -0500 (Thu, 20 Nov 2025) EndedAt: 2025-11-20 16:45:41 -0500 (Thu, 20 Nov 2025) EllapsedTime: 38.1 seconds RetCode: 0 Status: OK