Package: GNET2 Version: 1.26.0 Command: /home/biocbuild/R/R/bin/R CMD INSTALL GNET2 StartedAt: 2025-11-13 21:25:36 -0000 (Thu, 13 Nov 2025) EndedAt: 2025-11-13 21:26:25 -0000 (Thu, 13 Nov 2025) EllapsedTime: 48.7 seconds RetCode: 0 Status: OK