Package: GNET2 Version: 1.26.0 Command: /home/biocbuild/R/R/bin/R CMD build --keep-empty-dirs --no-resave-data GNET2 StartedAt: 2025-11-14 02:16:14 -0000 (Fri, 14 Nov 2025) EndedAt: 2025-11-14 02:17:27 -0000 (Fri, 14 Nov 2025) EllapsedTime: 73.0 seconds RetCode: 0 Status: OK PackageFile: GNET2_1.26.0.tar.gz PackageFileSize: 919.3 KiB