Package: GNET2 Version: 1.26.0 Command: /home/biocbuild/bbs-3.22-bioc/R/bin/R CMD check --install=check:GNET2.install-out.txt --library=/home/biocbuild/bbs-3.22-bioc/R/site-library --timings GNET2_1.26.0.tar.gz StartedAt: 2025-11-26 00:36:38 -0500 (Wed, 26 Nov 2025) EndedAt: 2025-11-26 00:39:49 -0500 (Wed, 26 Nov 2025) EllapsedTime: 191.2 seconds RetCode: 0 Status: OK CheckDir: GNET2.Rcheck Warnings: 0