Package: GNET2 Version: 1.25.0 Command: /Library/Frameworks/R.framework/Resources/bin/R CMD INSTALL GNET2 StartedAt: 2025-10-26 15:09:57 -0400 (Sun, 26 Oct 2025) EndedAt: 2025-10-26 15:10:09 -0400 (Sun, 26 Oct 2025) EllapsedTime: 12.1 seconds RetCode: 0 Status: OK