Package: GNET2 Version: 1.25.0 Command: /Library/Frameworks/R.framework/Resources/bin/R CMD build --keep-empty-dirs --no-resave-data GNET2 StartedAt: 2025-10-26 16:41:55 -0400 (Sun, 26 Oct 2025) EndedAt: 2025-10-26 16:42:13 -0400 (Sun, 26 Oct 2025) EllapsedTime: 18.2 seconds RetCode: 0 Status: OK PackageFile: GNET2_1.25.0.tar.gz PackageFileSize: 789.5 KiB