Package: GLAD Version: 2.74.0 Command: /home/biocbuild/bbs-3.22-bioc/R/bin/R CMD INSTALL GLAD StartedAt: 2025-11-06 15:01:52 -0500 (Thu, 06 Nov 2025) EndedAt: 2025-11-06 15:02:17 -0500 (Thu, 06 Nov 2025) EllapsedTime: 24.3 seconds RetCode: 0 Status: OK