Package: GLAD Version: 2.74.0 Command: /home/biocbuild/bbs-3.22-bioc/R/bin/R CMD build --keep-empty-dirs --no-resave-data --md5 GLAD StartedAt: 2025-11-06 17:53:00 -0500 (Thu, 06 Nov 2025) EndedAt: 2025-11-06 17:53:18 -0500 (Thu, 06 Nov 2025) EllapsedTime: 18.0 seconds RetCode: 0 Status: OK PackageFile: GLAD_2.74.0.tar.gz PackageFileSize: 1.306 MiB