Package: GEWIST Version: 1.54.0 Command: /home/biocbuild/bbs-3.22-bioc/R/bin/R CMD INSTALL GEWIST StartedAt: 2025-11-16 15:10:43 -0500 (Sun, 16 Nov 2025) EndedAt: 2025-11-16 15:10:53 -0500 (Sun, 16 Nov 2025) EllapsedTime: 9.5 seconds RetCode: 0 Status: OK