Package: GEWIST Version: 1.54.0 Command: /home/biocbuild/bbs-3.22-bioc/R/bin/R CMD build --keep-empty-dirs --no-resave-data --md5 GEWIST StartedAt: 2025-11-16 17:57:13 -0500 (Sun, 16 Nov 2025) EndedAt: 2025-11-16 17:58:41 -0500 (Sun, 16 Nov 2025) EllapsedTime: 88.1 seconds RetCode: 0 Status: OK PackageFile: GEWIST_1.54.0.tar.gz PackageFileSize: 388.8 KiB