Package: GEOsubmission Version: 1.62.0 Command: /Library/Frameworks/R.framework/Resources/bin/R CMD INSTALL GEOsubmission StartedAt: 2025-11-17 17:11:49 -0500 (Mon, 17 Nov 2025) EndedAt: 2025-11-17 17:11:58 -0500 (Mon, 17 Nov 2025) EllapsedTime: 9.5 seconds RetCode: 0 Status: OK