Package: GEOsubmission Version: 1.61.0 Command: /Library/Frameworks/R.framework/Resources/bin/R CMD INSTALL GEOsubmission StartedAt: 2025-10-24 15:22:38 -0400 (Fri, 24 Oct 2025) EndedAt: 2025-10-24 15:22:45 -0400 (Fri, 24 Oct 2025) EllapsedTime: 7.2 seconds RetCode: 0 Status: OK