Package: GEOsubmission Version: 1.61.0 Command: /Library/Frameworks/R.framework/Resources/bin/R CMD INSTALL GEOsubmission StartedAt: 2025-10-26 15:07:04 -0400 (Sun, 26 Oct 2025) EndedAt: 2025-10-26 15:07:06 -0400 (Sun, 26 Oct 2025) EllapsedTime: 1.3 seconds RetCode: 0 Status: OK