Package: GEOsubmission Version: 1.62.0 Command: /Library/Frameworks/R.framework/Resources/bin/R CMD INSTALL GEOsubmission StartedAt: 2025-11-17 17:12:17 -0500 (Mon, 17 Nov 2025) EndedAt: 2025-11-17 17:12:18 -0500 (Mon, 17 Nov 2025) EllapsedTime: 1.3 seconds RetCode: 0 Status: OK