Package: GEOsubmission Version: 1.62.0 Command: /Library/Frameworks/R.framework/Resources/bin/R CMD build --keep-empty-dirs --no-resave-data GEOsubmission StartedAt: 2025-11-17 21:29:53 -0500 (Mon, 17 Nov 2025) EndedAt: 2025-11-17 21:29:58 -0500 (Mon, 17 Nov 2025) EllapsedTime: 5.1 seconds RetCode: 0 Status: OK PackageFile: GEOsubmission_1.62.0.tar.gz PackageFileSize: 192.6 KiB