Package: GEOquery Version: 2.77.6 Command: /home/biocbuild/bbs-3.22-bioc/R/bin/R CMD INSTALL GEOquery StartedAt: 2025-10-24 15:43:47 -0400 (Fri, 24 Oct 2025) EndedAt: 2025-10-24 15:44:12 -0400 (Fri, 24 Oct 2025) EllapsedTime: 24.7 seconds RetCode: 0 Status: OK