Package: GEOquery Version: 2.77.6 Command: /home/biocbuild/bbs-3.22-bioc/R/bin/R CMD build --keep-empty-dirs --no-resave-data --md5 GEOquery StartedAt: 2025-10-24 17:59:42 -0400 (Fri, 24 Oct 2025) EndedAt: 2025-10-24 17:59:44 -0400 (Fri, 24 Oct 2025) EllapsedTime: 2.0 seconds RetCode: 0 Status: OK PackageFile: GEOquery_2.77.6.tar.gz PackageFileSize: 12.83 MiB