Package: GEOquery Version: 2.78.0 Command: /Library/Frameworks/R.framework/Resources/bin/R CMD INSTALL GEOquery StartedAt: 2025-11-10 15:18:35 -0500 (Mon, 10 Nov 2025) EndedAt: 2025-11-10 15:18:45 -0500 (Mon, 10 Nov 2025) EllapsedTime: 10.1 seconds RetCode: 0 Status: OK