Package: GEOquery Version: 2.78.0 Command: /Library/Frameworks/R.framework/Resources/bin/R CMD build --keep-empty-dirs --no-resave-data GEOquery StartedAt: 2025-11-10 16:31:39 -0500 (Mon, 10 Nov 2025) EndedAt: 2025-11-10 16:31:42 -0500 (Mon, 10 Nov 2025) EllapsedTime: 3.0 seconds RetCode: 0 Status: OK PackageFile: GEOquery_2.78.0.tar.gz PackageFileSize: 12.83 MiB