Package: GEOmetadb Version: 1.72.0 Command: /home/biocbuild/bbs-3.22-bioc/R/bin/R CMD INSTALL GEOmetadb StartedAt: 2025-10-31 15:12:28 -0400 (Fri, 31 Oct 2025) EndedAt: 2025-10-31 15:12:42 -0400 (Fri, 31 Oct 2025) EllapsedTime: 13.9 seconds RetCode: 0 Status: OK