Package: GEOmetadb Version: 1.72.0 Command: /home/biocbuild/bbs-3.22-bioc/R/bin/R CMD build --keep-empty-dirs --no-resave-data --md5 GEOmetadb StartedAt: 2025-10-31 17:59:39 -0400 (Fri, 31 Oct 2025) EndedAt: 2025-10-31 17:59:57 -0400 (Fri, 31 Oct 2025) EllapsedTime: 18.0 seconds RetCode: 0 Status: OK PackageFile: GEOmetadb_1.72.0.tar.gz PackageFileSize: 637.9 KiB