Package: GEOfastq Version: 1.18.0 Command: /home/biocbuild/bbs-3.22-bioc/R/bin/R CMD INSTALL GEOfastq StartedAt: 2025-11-02 15:12:48 -0500 (Sun, 02 Nov 2025) EndedAt: 2025-11-02 15:13:24 -0500 (Sun, 02 Nov 2025) EllapsedTime: 36.0 seconds RetCode: 0 Status: OK