Package: GENIE3 Version: 1.32.0 Command: /home/biocbuild/bbs-3.22-bioc/R/bin/R CMD INSTALL GENIE3 StartedAt: 2025-11-14 15:10:08 -0500 (Fri, 14 Nov 2025) EndedAt: 2025-11-14 15:10:13 -0500 (Fri, 14 Nov 2025) EllapsedTime: 4.5 seconds RetCode: 0 Status: OK