Package: GENIE3 Version: 1.32.0 Command: /home/biocbuild/bbs-3.22-bioc/R/bin/R CMD build --keep-empty-dirs --no-resave-data --md5 GENIE3 StartedAt: 2025-11-14 17:51:10 -0500 (Fri, 14 Nov 2025) EndedAt: 2025-11-14 17:51:17 -0500 (Fri, 14 Nov 2025) EllapsedTime: 7.0 seconds RetCode: 0 Status: OK PackageFile: GENIE3_1.32.0.tar.gz PackageFileSize: 241.8 KiB