Package: GENESIS Version: 2.40.0 Command: /home/biocbuild/bbs-3.22-bioc/R/bin/R CMD INSTALL GENESIS StartedAt: 2025-11-17 17:32:54 -0500 (Mon, 17 Nov 2025) EndedAt: 2025-11-17 17:33:21 -0500 (Mon, 17 Nov 2025) EllapsedTime: 27.8 seconds RetCode: 0 Status: OK